BEGIN:VCALENDAR
PRODID:-//eluceo/ical//2.0/EN
VERSION:2.0
CALSCALE:GREGORIAN
BEGIN:VEVENT
UID:98bd2600fbe3e926af925d6275e11696
DTSTAMP:20260425T221520Z
SUMMARY:Sessió de pilates amb Pascale Bony
DESCRIPTION:Inscripció obligatòria\n\n\n\nInscripcions torn 12:30h\n\n\n\
 nSessió de pilates guiada per Pascale Bony\, centrada en el treball de la
  postura\, la força i la consciència corporal. A través d’exercicis s
 uaus i controlats\, els participants aprendran a millorar la flexibilitat\
 , l’equilibri i la coordinació\, alhora que afavoreixen el benestar fí
 sic i la prevenció de molèsties musculars. Una activitat accessible per 
 a tots els nivells que convida a moure el cos amb atenció i control.\n\nP
 úblic: Adults\n\nTipus d’activitat: Espai Benestar 
DTSTART;TZID=Europe/Madrid:20260509T123000
DTEND;TZID=Europe/Madrid:20260509T133000
LOCATION:Casanova - Provença
END:VEVENT
BEGIN:VTIMEZONE
TZID:Europe/Madrid
BEGIN:STANDARD
DTSTART:20260101T001520
TZNAME:CET
TZOFFSETTO:+0100
TZOFFSETFROM:+0100
END:STANDARD
BEGIN:DAYLIGHT
DTSTART:20260329T030000
TZNAME:CEST
TZOFFSETTO:+0200
TZOFFSETFROM:+0100
END:DAYLIGHT
BEGIN:STANDARD
DTSTART:20261025T020000
TZNAME:CET
TZOFFSETTO:+0100
TZOFFSETFROM:+0200
END:STANDARD
END:VTIMEZONE
END:VCALENDAR
