BEGIN:VCALENDAR
PRODID:-//eluceo/ical//2.0/EN
VERSION:2.0
CALSCALE:GREGORIAN
BEGIN:VEVENT
UID:2f3e2be00cb5752e2c5622f7998d5387
DTSTAMP:20260425T215428Z
SUMMARY:Sessió de Tai-txi
DESCRIPTION:Inscripció obligatòria\n\n\n\nInscripcions torn 11:30h\n\n\n\
 nSessió de tai-txi oberta al públic per promoure el benestar físic i me
 ntal\, mitjançant moviments suaus\, respiració conscient i relaxació\, 
 adaptada a tots els nivells. \n\nPúblic: Adults en general \n\nTipus d
 ’activitat: Espai Benestar 
DTSTART;TZID=Europe/Madrid:20260509T113000
DTEND;TZID=Europe/Madrid:20260509T123000
LOCATION:Casanova - Provença
END:VEVENT
BEGIN:VTIMEZONE
TZID:Europe/Madrid
BEGIN:STANDARD
DTSTART:20260101T235428
TZNAME:CET
TZOFFSETTO:+0100
TZOFFSETFROM:+0100
END:STANDARD
BEGIN:DAYLIGHT
DTSTART:20260329T030000
TZNAME:CEST
TZOFFSETTO:+0200
TZOFFSETFROM:+0100
END:DAYLIGHT
BEGIN:STANDARD
DTSTART:20261025T020000
TZNAME:CET
TZOFFSETTO:+0100
TZOFFSETFROM:+0200
END:STANDARD
END:VTIMEZONE
END:VCALENDAR
