BEGIN:VCALENDAR
PRODID:-//eluceo/ical//2.0/EN
VERSION:2.0
CALSCALE:GREGORIAN
BEGIN:VEVENT
UID:386922aa14696f08e0d962d916658d32
DTSTAMP:20260425T221442Z
SUMMARY:Sessió de XT29 amb Jose Expósito
DESCRIPTION:Inscripció obligatòria\n\n\n\nInscripcions torn 10:45h\n\n\n\
 nSessió pràctica per descobrir el mètode XT29 amb Jose Expósito\, una 
 proposta que combina moviment\, consciència corporal i respiració per mi
 llorar el benestar físic i mental. Durant l’activitat\, els participant
 s podran conèixer els principis d’aquest mètode i experimentar alguns 
 dels seus exercicis a través d’una dinàmica guiada i accessible per a 
 tots els públics. Una oportunitat per explorar noves formes de cuidar el 
 cos\, reduir l’estrès i incorporar hàbits saludables al dia a dia.\n\n
 Públic: Adults en general\n\nTipus d’activitat: Espai Benestar
DTSTART;TZID=Europe/Madrid:20260509T104500
DTEND;TZID=Europe/Madrid:20260509T111500
LOCATION:Casanova - Provença
END:VEVENT
BEGIN:VTIMEZONE
TZID:Europe/Madrid
BEGIN:STANDARD
DTSTART:20260101T001442
TZNAME:CET
TZOFFSETTO:+0100
TZOFFSETFROM:+0100
END:STANDARD
BEGIN:DAYLIGHT
DTSTART:20260329T030000
TZNAME:CEST
TZOFFSETTO:+0200
TZOFFSETFROM:+0100
END:DAYLIGHT
BEGIN:STANDARD
DTSTART:20261025T020000
TZNAME:CET
TZOFFSETTO:+0100
TZOFFSETFROM:+0200
END:STANDARD
END:VTIMEZONE
END:VCALENDAR
