BEGIN:VCALENDAR
PRODID:-//eluceo/ical//2.0/EN
VERSION:2.0
CALSCALE:GREGORIAN
BEGIN:VEVENT
UID:6318584075e9f40fad7ad296831b9010
DTSTAMP:20260425T221303Z
SUMMARY:Taller de construcció LEGO
DESCRIPTION:Vine en família a construir amb LEGO i a donar forma a noves i
 dees d’una manera divertida i participativa. Podràs participar en un d
 ’aquests dos tallers:\n\n1. Construïm el Nou Clínic. Imagina com serà
  l’hospital del futur i ajuda’ns a donar-li forma peça a peça. Const
 ruirem espais com l’heliport\, el laboratori\, el quiròfan o l’aula\,
  pensant com poden ajudar a cuidar millor les persones.\n\n2. Nutri-Bot. C
 onstrueix el teu propi Nutri-Bot\, un robot que ens ajudarà a entendre\, 
 de manera visual i creativa\, les proporcions d’una alimentació equilib
 rada.\n\nDurada de cada taller: 30 minuts\nAforament: 25 unitats familiars
  per tanda\nHorari: 9.30 h a 14.30\nPúblic: familiar
DTSTART;TZID=Europe/Madrid:20260509T093000
DTEND;TZID=Europe/Madrid:20260509T143000
LOCATION:Casanova - Rosselló
END:VEVENT
BEGIN:VTIMEZONE
TZID:Europe/Madrid
BEGIN:STANDARD
DTSTART:20260101T001303
TZNAME:CET
TZOFFSETTO:+0100
TZOFFSETFROM:+0100
END:STANDARD
BEGIN:DAYLIGHT
DTSTART:20260329T030000
TZNAME:CEST
TZOFFSETTO:+0200
TZOFFSETFROM:+0100
END:DAYLIGHT
BEGIN:STANDARD
DTSTART:20261025T020000
TZNAME:CET
TZOFFSETTO:+0100
TZOFFSETFROM:+0200
END:STANDARD
END:VTIMEZONE
END:VCALENDAR
