BEGIN:VCALENDAR
PRODID:-//eluceo/ical//2.0/EN
VERSION:2.0
CALSCALE:GREGORIAN
BEGIN:VEVENT
UID:63d933b383a355177dbb4e69112bd6e9
DTSTAMP:20260425T221852Z
SUMMARY:Taller de RCP bàsica i ús de desfibril·ladors automàtics (DEA)
DESCRIPTION:Vine i participa! Taller de RCP i DEA\, descobreix com utilitza
 r els serveis d’urgències\, coneix les seus de l’Hospital Clínic i e
 ls nivells d’atenció\, i aprèn amb activitats pràctiques pensades per
  a tu. \n\nPúblic: Adults en general \, joves i adolescents \n\nTipus 
 d’activitat: Carpes (a la Plaça) \n\nHorari: 9:30-14:30 
DTSTART;TZID=Europe/Madrid:20260509T093000
DTEND;TZID=Europe/Madrid:20260509T143000
LOCATION:Casanova - Còrsega
END:VEVENT
BEGIN:VTIMEZONE
TZID:Europe/Madrid
BEGIN:STANDARD
DTSTART:20260101T001852
TZNAME:CET
TZOFFSETTO:+0100
TZOFFSETFROM:+0100
END:STANDARD
BEGIN:DAYLIGHT
DTSTART:20260329T030000
TZNAME:CEST
TZOFFSETTO:+0200
TZOFFSETFROM:+0100
END:DAYLIGHT
BEGIN:STANDARD
DTSTART:20261025T020000
TZNAME:CET
TZOFFSETTO:+0100
TZOFFSETFROM:+0200
END:STANDARD
END:VTIMEZONE
END:VCALENDAR
