BEGIN:VCALENDAR
PRODID:-//eluceo/ical//2.0/EN
VERSION:2.0
CALSCALE:GREGORIAN
BEGIN:VEVENT
UID:b051fc9e30c35698857a023eeab36e7d
DTSTAMP:20260425T221753Z
SUMMARY:Taller de txikung per a la fibromiàlgia
DESCRIPTION:Taller de Chi Kung impartit per un metge pediatre i docent amb 
 àmplia experiència. S’explicarà què és el Chi Kung i els seus benef
 icis per a la salut\, amb una pràctica suau d’estiraments\, respiració
  i meditació\, adreçada a persones amb fibromiàlgia i/o fatiga crònica
 . \n\nPúblic: Adults en general (grup tancat)\n\nTipus d’activitat: 
 Espai Benestar \n\nHorari: 9:30 
DTSTART;TZID=Europe/Madrid:20260509T093000
DTEND;TZID=Europe/Madrid:20260509T103000
LOCATION:Casanova - Provença
END:VEVENT
BEGIN:VTIMEZONE
TZID:Europe/Madrid
BEGIN:STANDARD
DTSTART:20260101T001753
TZNAME:CET
TZOFFSETTO:+0100
TZOFFSETFROM:+0100
END:STANDARD
BEGIN:DAYLIGHT
DTSTART:20260329T030000
TZNAME:CEST
TZOFFSETTO:+0200
TZOFFSETFROM:+0100
END:DAYLIGHT
BEGIN:STANDARD
DTSTART:20261025T020000
TZNAME:CET
TZOFFSETTO:+0100
TZOFFSETFROM:+0200
END:STANDARD
END:VTIMEZONE
END:VCALENDAR
