BEGIN:VCALENDAR
PRODID:-//eluceo/ical//2.0/EN
VERSION:2.0
CALSCALE:GREGORIAN
BEGIN:VEVENT
UID:7559c972c9afd2a45e40432c9c99a86e
DTSTAMP:20260425T232904Z
SUMMARY:Té gènere la salut?
DESCRIPTION:A través de quatre obres d’art d’autors catalans exposades
  al Museu Nacional d’Art de Catalunya (MNAC)\, convidarem a reflexionar 
 sobre la relació entre rols de gènere\, salut i malaltia. Les pintures e
 ns permetran explorar com la societat i la ciència han construït imagina
 ris sobre el cos de la dona i com aquests imaginaris han influït en la sa
 lut i la malaltia. També hi haurà activitats per infants amb espai per 
 dibuixar.\n\nPúblic: Adults en general \n\nTipus d’activitat: Carpes
  (a la Plaça) \n\nHorari: 9:30-14:30 
DTSTART;TZID=Europe/Madrid:20260509T093000
DTEND;TZID=Europe/Madrid:20260509T143000
LOCATION:Casanova - Rosselló
END:VEVENT
BEGIN:VTIMEZONE
TZID:Europe/Madrid
BEGIN:STANDARD
DTSTART:20260101T012904
TZNAME:CET
TZOFFSETTO:+0100
TZOFFSETFROM:+0100
END:STANDARD
BEGIN:DAYLIGHT
DTSTART:20260329T030000
TZNAME:CEST
TZOFFSETTO:+0200
TZOFFSETFROM:+0100
END:DAYLIGHT
BEGIN:STANDARD
DTSTART:20261025T020000
TZNAME:CET
TZOFFSETTO:+0100
TZOFFSETFROM:+0200
END:STANDARD
END:VTIMEZONE
END:VCALENDAR
