BEGIN:VCALENDAR
PRODID:-//eluceo/ical//2.0/EN
VERSION:2.0
CALSCALE:GREGORIAN
BEGIN:VEVENT
UID:def61ebec9917becad2333588529bbc0
DTSTAMP:20260425T221955Z
SUMMARY:Teatre: L’enigma de l’aturada cardíaca: cor i cervell\, la cla
 u de la vida
DESCRIPTION:Vine a “El Cor del Museu”: aprèn sobre aturades cardíaque
 s a través d’una explicació teatralitzada\, testimonis reals i pràcti
 ques amb maniquí i DEA. Descobreix com la reanimació precoç pot salvar 
 vides i participa en la recerca. \n\nPúblic: Per a tota la família \n
 \nTipus d’activitat: Carpes (a la calçada) \n\nHorari: 9:30-14:30 
DTSTART;TZID=Europe/Madrid:20260509T093000
DTEND;TZID=Europe/Madrid:20260509T143000
LOCATION:Casanova - Provença
END:VEVENT
BEGIN:VTIMEZONE
TZID:Europe/Madrid
BEGIN:STANDARD
DTSTART:20260101T001955
TZNAME:CET
TZOFFSETTO:+0100
TZOFFSETFROM:+0100
END:STANDARD
BEGIN:DAYLIGHT
DTSTART:20260329T030000
TZNAME:CEST
TZOFFSETTO:+0200
TZOFFSETFROM:+0100
END:DAYLIGHT
BEGIN:STANDARD
DTSTART:20261025T020000
TZNAME:CET
TZOFFSETTO:+0100
TZOFFSETFROM:+0200
END:STANDARD
END:VTIMEZONE
END:VCALENDAR
