BEGIN:VCALENDAR
PRODID:-//eluceo/ical//2.0/EN
VERSION:2.0
CALSCALE:GREGORIAN
BEGIN:VEVENT
UID:28b1533e72ccb355a030fda7e240d29b
DTSTAMP:20260425T221650Z
SUMMARY:TinderMed: reaccions\, medicaments i viceversa
DESCRIPTION:Ets capaç de trobar el “match” perfecte per a la RAMona? T
 aller gamificat sobre farmacovigilància: identifica medicaments implicats
  en reaccions adverses\, explora perfils\, aprèn causalitat i ús segur d
 els medicaments de manera divertida. \n\nPúblic: Adults en general \n\
 nTipus d’activitat: Carpes (a la calçada) \n\nHorari: 9:30-14:30 
DTSTART;TZID=Europe/Madrid:20260509T093000
DTEND;TZID=Europe/Madrid:20260509T143000
LOCATION:Casanova - Provença
END:VEVENT
BEGIN:VTIMEZONE
TZID:Europe/Madrid
BEGIN:STANDARD
DTSTART:20260101T001650
TZNAME:CET
TZOFFSETTO:+0100
TZOFFSETFROM:+0100
END:STANDARD
BEGIN:DAYLIGHT
DTSTART:20260329T030000
TZNAME:CEST
TZOFFSETTO:+0200
TZOFFSETFROM:+0100
END:DAYLIGHT
BEGIN:STANDARD
DTSTART:20261025T020000
TZNAME:CET
TZOFFSETTO:+0100
TZOFFSETFROM:+0200
END:STANDARD
END:VTIMEZONE
END:VCALENDAR
