BEGIN:VCALENDAR
PRODID:-//eluceo/ical//2.0/EN
VERSION:2.0
CALSCALE:GREGORIAN
BEGIN:VEVENT
UID:aa6c235e3b12c29eba44b6573a5f8638
DTSTAMP:20260425T221752Z
SUMMARY:Veu saludable\, vida saludable: vine a cuidar la teva veu!
DESCRIPTION:Aprèn a cuidar la veu\, detecta signes d’alerta i prova una 
 anàlisi vocal en temps real amb micròfon i programes PRAAT i VoxPlot. De
 scobreix la qualitat de la teva veu i millora el teu benestar vocal. \n\n
 Públic: Adults en general \n\nTipus d’activitat: Carpes (a la calça
 da) \n\nHorari: 9:30-14:30 
DTSTART;TZID=Europe/Madrid:20260509T093000
DTEND;TZID=Europe/Madrid:20260509T143000
LOCATION:Casanova - Còrsega
END:VEVENT
BEGIN:VTIMEZONE
TZID:Europe/Madrid
BEGIN:STANDARD
DTSTART:20260101T001752
TZNAME:CET
TZOFFSETTO:+0100
TZOFFSETFROM:+0100
END:STANDARD
BEGIN:DAYLIGHT
DTSTART:20260329T030000
TZNAME:CEST
TZOFFSETTO:+0200
TZOFFSETFROM:+0100
END:DAYLIGHT
BEGIN:STANDARD
DTSTART:20261025T020000
TZNAME:CET
TZOFFSETTO:+0100
TZOFFSETFROM:+0200
END:STANDARD
END:VTIMEZONE
END:VCALENDAR
