BEGIN:VCALENDAR
PRODID:-//eluceo/ical//2.0/EN
VERSION:2.0
CALSCALE:GREGORIAN
BEGIN:VEVENT
UID:337d61b2377c1a491b99d36331a5e854
DTSTAMP:20260425T234705Z
SUMMARY:Viatge al cor: entenent la hipertensió pulmonar
DESCRIPTION:Descobreix la recerca traslacional a la Unitat d’Hipertensió
  Pulmonar del Clínic Barcelona: de la clínica al laboratori\, nous tract
 aments i medicina personalitzada amb materials visuals\, casos reals i exp
 licacions interactives. \n\nPúblic: Adults en general \n\nTipus d’ac
 tivitat: Carpes (a la calçada) \n\nHorari: 9:30-14:30 
DTSTART;TZID=Europe/Madrid:20260509T093000
DTEND;TZID=Europe/Madrid:20260509T143000
LOCATION:Casanova - Provença
END:VEVENT
BEGIN:VTIMEZONE
TZID:Europe/Madrid
BEGIN:STANDARD
DTSTART:20260101T014705
TZNAME:CET
TZOFFSETTO:+0100
TZOFFSETFROM:+0100
END:STANDARD
BEGIN:DAYLIGHT
DTSTART:20260329T030000
TZNAME:CEST
TZOFFSETTO:+0200
TZOFFSETFROM:+0100
END:DAYLIGHT
BEGIN:STANDARD
DTSTART:20261025T020000
TZNAME:CET
TZOFFSETTO:+0100
TZOFFSETFROM:+0200
END:STANDARD
END:VTIMEZONE
END:VCALENDAR
