BEGIN:VCALENDAR
PRODID:-//eluceo/ical//2.0/EN
VERSION:2.0
CALSCALE:GREGORIAN
BEGIN:VEVENT
UID:8010a01422d514a17748b6e034b0810c
DTSTAMP:20260425T234705Z
SUMMARY:Visita a la Sala de Dissecció i al Servei de Donació de Cossos
DESCRIPTION:Inscripció obligatòria\n\n\n\nInscripcions torn 10:30h\n\n\nI
 nscripcions torn 11:45h\n\n\nInscripcions torn 13:00h\n\n\n\nVisita a la S
 ala de Dissecció i al Servei de Donació de Cossos per explicar el seu pa
 per fonamental en la docència i la recerca mèdica. \n\nPúblic: Adults
  en general \n\nTipus d’activitat: Visites guiades \n\nPlaces dispon
 ibles: 20 (per torn)\n\nDurada: 45' 
DTSTART;TZID=Europe/Madrid:20260509T103000
DTEND;TZID=Europe/Madrid:20260509T130000
LOCATION:Facultat
END:VEVENT
BEGIN:VTIMEZONE
TZID:Europe/Madrid
BEGIN:STANDARD
DTSTART:20260101T014705
TZNAME:CET
TZOFFSETTO:+0100
TZOFFSETFROM:+0100
END:STANDARD
BEGIN:DAYLIGHT
DTSTART:20260329T030000
TZNAME:CEST
TZOFFSETTO:+0200
TZOFFSETFROM:+0100
END:DAYLIGHT
BEGIN:STANDARD
DTSTART:20261025T020000
TZNAME:CET
TZOFFSETTO:+0100
TZOFFSETFROM:+0200
END:STANDARD
END:VTIMEZONE
END:VCALENDAR
