BEGIN:VCALENDAR
PRODID:-//eluceo/ical//2.0/EN
VERSION:2.0
CALSCALE:GREGORIAN
BEGIN:VEVENT
UID:1796f7a0d7a51a2fe55143d462139932
DTSTAMP:20260425T221546Z
SUMMARY:Visita al Clinic Eye Training Center
DESCRIPTION:Inscripció obligatòria\n\n\n\nInscripcions torn 12:00h\n\n\n\
 nDescobreix el Clínic Eye Training Center\, un espai capdavanter dedicat 
 a la formació i la innovació en oftalmologia. Durant la visita podràs c
 onèixer com els professionals s’entrenen en tècniques avançades de ci
 rurgia ocular mitjançant simulació\, tecnologia d’última generació i
  connexió amb els quiròfans reals. Una oportunitat per veure com es form
 en els especialistes que cuiden la salut visual del futur \n\nPúblic: Pe
 r a tota la família \n\nTipus d’activitat: Visites guiades \n\nPlac
 es disponibles: 5 (per torn)\n\nDurada: 30' 
DTSTART;TZID=Europe/Madrid:20260509T120000
DTEND;TZID=Europe/Madrid:20260509T123000
LOCATION:Maternitat
END:VEVENT
BEGIN:VTIMEZONE
TZID:Europe/Madrid
BEGIN:STANDARD
DTSTART:20260101T001546
TZNAME:CET
TZOFFSETTO:+0100
TZOFFSETFROM:+0100
END:STANDARD
BEGIN:DAYLIGHT
DTSTART:20260329T030000
TZNAME:CEST
TZOFFSETTO:+0200
TZOFFSETFROM:+0100
END:DAYLIGHT
BEGIN:STANDARD
DTSTART:20261025T020000
TZNAME:CET
TZOFFSETTO:+0100
TZOFFSETFROM:+0200
END:STANDARD
END:VTIMEZONE
END:VCALENDAR
