BEGIN:VCALENDAR
PRODID:-//eluceo/ical//2.0/EN
VERSION:2.0
CALSCALE:GREGORIAN
BEGIN:VEVENT
UID:05fbcfa6565e8fb3a1ace6f5599bd146
DTSTAMP:20260425T215201Z
SUMMARY:Visita al Laboratori CORE del Centre de Diagnòstic Biomèdic de l'
 Hospital Clínic
DESCRIPTION:Inscripció obligatòria\n\n\n\nInscripcions torn 11:00h\n\n\nI
 nscripcions torn 12:00h\n\n\nInscripcions torn 13:00h\n\n\n\nDescobreix el
  laboratori CORE del Centre de Diagnòstic Biomèdic del Hospital Clínic 
 Barcelona\, un dels laboratoris hospitalaris més avançats d’Europa. Du
 rant aquesta visita podràs conèixer com funciona un sistema altament aut
 omatitzat que integra totes les etapes del procés analític i processa mi
 lers de mostres cada dia\, millorant la rapidesa del diagnòstic i la segu
 retat dels pacients. Una oportunitat per veure de prop com la tecnologia i
  la innovació transformen el diagnòstic mèdic \n\nPúblic: Per a tot
 a la família \n\nTipus d’activitat: Visites guiades \n\nPlaces dispo
 nibles: 10 (per torn)\n\nDurada: 45' 
DTSTART;TZID=Europe/Madrid:20260509T110000
DTEND;TZID=Europe/Madrid:20260509T130000
LOCATION:Hospital
END:VEVENT
BEGIN:VTIMEZONE
TZID:Europe/Madrid
BEGIN:STANDARD
DTSTART:20260101T235201
TZNAME:CET
TZOFFSETTO:+0100
TZOFFSETFROM:+0100
END:STANDARD
BEGIN:DAYLIGHT
DTSTART:20260329T030000
TZNAME:CEST
TZOFFSETTO:+0200
TZOFFSETFROM:+0100
END:DAYLIGHT
BEGIN:STANDARD
DTSTART:20261025T020000
TZNAME:CET
TZOFFSETTO:+0100
TZOFFSETFROM:+0200
END:STANDARD
END:VTIMEZONE
END:VCALENDAR
