BEGIN:VCALENDAR
PRODID:-//eluceo/ical//2.0/EN
VERSION:2.0
CALSCALE:GREGORIAN
BEGIN:VEVENT
UID:f831a9790290de07ec9abb3ef0a4716b
DTSTAMP:20260425T222023Z
SUMMARY:Visita als laboratoris de Cribratge Neonatal de Catalunya i de diag
 nòstic de Malalties Metabòliques Hereditàries
DESCRIPTION:Inscripció obligatòria\n\n\n\nInscripcions torn 10:30h\n\n\nI
 nscripcions torn 11:45h\n\n\nInscripcions torn 13:00h\n\n\n\nVisita guiada
  als laboratoris d’Errors Congènits del Metabolisme del CDB\, on es fa 
 el Cribratge Neonatal a Catalunya\, i a altres àrees del laboratori per c
 onèixer les proves bioquímiques i genètiques per al diagnòstic de mala
 lties metabòliques hereditàries. \n\nPúblic:Adults en general \, jove
 s i adolescents \n\nTipus d’activitat: Visites guiades \n\nPlaces dis
 ponibles: 15 (per torn)\n\nDurada: 1h 
DTSTART;TZID=Europe/Madrid:20260509T103000
DTEND;TZID=Europe/Madrid:20260509T130000
LOCATION:Maternitat
END:VEVENT
BEGIN:VTIMEZONE
TZID:Europe/Madrid
BEGIN:STANDARD
DTSTART:20260101T002023
TZNAME:CET
TZOFFSETTO:+0100
TZOFFSETFROM:+0100
END:STANDARD
BEGIN:DAYLIGHT
DTSTART:20260329T030000
TZNAME:CEST
TZOFFSETTO:+0200
TZOFFSETFROM:+0100
END:DAYLIGHT
BEGIN:STANDARD
DTSTART:20261025T020000
TZNAME:CET
TZOFFSETTO:+0100
TZOFFSETFROM:+0200
END:STANDARD
END:VTIMEZONE
END:VCALENDAR
