BEGIN:VCALENDAR
PRODID:-//eluceo/ical//2.0/EN
VERSION:2.0
CALSCALE:GREGORIAN
BEGIN:VEVENT
UID:06821150aff3a2694f78fc2657979c0a
DTSTAMP:20260425T221417Z
SUMMARY:Visita el quiròfan
DESCRIPTION:Inscripció obligatòria\n\n\n\nInscripcions torn 10:00h\n\n\nI
 nscripcions torn 11:00h\n\n\nInscripcions torn 12:00h\n\n\nInscripcions to
 rn 13:00h\n\n\n\nActivitat amb visita al quiròfan Optimus i demostracions
  de simulació robòtica\, simulació d’equips i suport vital bàsic (RC
 P). \n\nPúblic: Per a tota la família \n\nTipus d’activitat: Visit
 es guiades \n\nPlaces disponibles: 12 (per torn)\n\nDurada: 35' 
DTSTART;TZID=Europe/Madrid:20260509T100000
DTEND;TZID=Europe/Madrid:20260509T130000
LOCATION:Hospital
END:VEVENT
BEGIN:VTIMEZONE
TZID:Europe/Madrid
BEGIN:STANDARD
DTSTART:20260101T001417
TZNAME:CET
TZOFFSETTO:+0100
TZOFFSETFROM:+0100
END:STANDARD
BEGIN:DAYLIGHT
DTSTART:20260329T030000
TZNAME:CEST
TZOFFSETTO:+0200
TZOFFSETFROM:+0100
END:DAYLIGHT
BEGIN:STANDARD
DTSTART:20261025T020000
TZNAME:CET
TZOFFSETTO:+0100
TZOFFSETFROM:+0200
END:STANDARD
END:VTIMEZONE
END:VCALENDAR
