BEGIN:VCALENDAR
PRODID:-//eluceo/ical//2.0/EN
VERSION:2.0
CALSCALE:GREGORIAN
BEGIN:VEVENT
UID:4911220fbf1c4f5f46b989431e19e70a
DTSTAMP:20260425T221825Z
SUMMARY:Visita guiada: 120 anys de la Facultat de Medicina
DESCRIPTION:Inscripció obligatòria\n\n\n\nInscripcions torn 10:15h\n\n\nI
 nscripcions torn 11:15h\n\n\nInscripcions torn 12:15h\n\n\nInscripcions to
 rn 13:15h\n\n\n\nVisita guiada amb un itinerari històric per la Facultat 
 de Medicina per conèixer l’evolució de la docència i la pràctica mè
 dica al llarg del temps. \n\nPúblic: Per a tota la família \n\nTipus 
 d’activitat: Visites guiades \n\nPlaces disponibles: 25 (per torn)\n
 \nDurada: 45' 
DTSTART;TZID=Europe/Madrid:20260509T101500
DTEND;TZID=Europe/Madrid:20260509T131500
LOCATION:Facultat
END:VEVENT
BEGIN:VTIMEZONE
TZID:Europe/Madrid
BEGIN:STANDARD
DTSTART:20260101T001825
TZNAME:CET
TZOFFSETTO:+0100
TZOFFSETFROM:+0100
END:STANDARD
BEGIN:DAYLIGHT
DTSTART:20260329T030000
TZNAME:CEST
TZOFFSETTO:+0200
TZOFFSETFROM:+0100
END:DAYLIGHT
BEGIN:STANDARD
DTSTART:20261025T020000
TZNAME:CET
TZOFFSETTO:+0100
TZOFFSETFROM:+0200
END:STANDARD
END:VTIMEZONE
END:VCALENDAR
